Workbook

Sheet Kecamatan
A2: DAFTAR NAMA SUB PPKBD DI KECAMATAN TEJAKULA
A3: TAHUN 2015
A8: NO | B8: NAMA SUB PPKBD | C8: WILAYAH
C9: DUSUN / BANJAR | D9: DESA
A10: 1 | B10: =Sembiran!B9 -> PUTU ARSANA | C10: =Sembiran!C9 -> PANGGUNG | D10: =Sembiran!D9 -> SEMBIRAN
A11: 2 | B11: =Sembiran!B10 -> KOMANG SARI | C11: =Sembiran!C10 -> BUKIT SENI
A12: 3 | B12: =Sembiran!B11 -> NENGAH SUKIANA | C12: =Sembiran!C11 -> KAWANAN
A13: 4 | B13: =Sembiran!B12 -> NYOMAN SUARTANA | C13: =Sembiran!C12 -> ANYAR
A14: 5 | B14: =Sembiran!B13 -> NENGAH ARDANA | C14: =Sembiran!C13 -> DUKUH
A15: 6 | B15: =Sembiran!B14 -> I WAYAN RAKSA | C15: =Sembiran!C14 -> KANGINAN
A16: 7 | B16: =Pacung!B9 -> LUH SRIBUDIANI | C16: =Pacung!C9 -> KUBUANYAR | D16: =Pacung!D9 -> PACUNG
A17: 8 | B17: =Pacung!B10 -> KETUT SARJANA | C17: =Pacung!C10 -> SAMBIRANA
A18: 9 | B18: =Pacung!B11 -> NYOMAN PUTRA | C18: =Pacung!C11 -> ALASSARI
A19: 10 | B19: =Pacung!B12 -> WAYAN PUTU | C19: =Pacung!C12 -> BALE BENA
A20: 11 | B20: =Pacung!B13 -> NYOMAN SUTAYA | C20: =Pacung!C13 -> ANTASARI
A21: 12 | B21: =Julah!B9 -> I WAYAN MUDIARTA | C21: =Julah!C9 -> KAWANAN | D21: =Julah!D9 -> JULAH
A22: 13 | B22: =Julah!B10 -> NI KADEK HELI MARHENI | C22: =Julah!C10 -> SILAYUKTI
A23: 14 | B23: =Julah!B11 -> NI MADE RATNA | C23: =Julah!C11 -> WARINGIN SARI
A24: 15 | B24: =Julah!B12 -> I KETUT YUDIANA | C24: =Julah!C12 -> KANGINAN
A25: 16 | B25: =Julah!B13 -> I KETUT DIARSI | C25: =Julah!C13 -> BUNGBUNG LINGGAH
A26: 17 | B26: =Julah!B14 -> WAHID HASYIM | C26: =Julah!C14 -> BATU GAMBIR
A27: 18 | B27: =Bondalem!B9 -> NYOMAN WIDIADA | C27: =Bondalem!C9 -> SUKSUK | D27: =Bondalem!D9 -> BONDALEM
A28: 19 | B28: =Bondalem!B10 -> KETUT SRI WIDIANTINI | C28: =Bondalem!C10 -> TEGAL SARI
A29: 20 | B29: =Bondalem!B11 -> KETUT SUDIARSA | C29: =Bondalem!C11 -> KAJA KANGIN
A30: 21 | B30: =Bondalem!B12 -> NYOMAN SUKRINI | C30: =Bondalem!C12 -> CELUK
A31: 22 | B31: =Bondalem!B13 -> GEDE ARIMBAWA | C31: =Bondalem!C13 -> KAJA KAUH
A32: 23 | B32: =Bondalem!B14 -> GEDE SUKA | C32: =Bondalem!C14 -> CELAGI BANTES
A33: 24 | B33: =Bondalem!B15 -> KADEK NOVA MAHENDRA | C33: =Bondalem!C15 -> KELOD KANGIN
A34: 25 | B34: =Bondalem!B16 -> GEDE RUPAWAN | C34: =Bondalem!C16 -> LEMO SARI
A35: 26 | B35: =Bondalem!B17 -> KETUT AGUS SATRIAWAN | C35: =Bondalem!C17 -> KELOD KAUH
A36: 27 | B36: =Bondalem!B18 -> KETUT SUSILA | C36: =Bondalem!C18 -> JERO KUTA
A37: 28 | B37: =Bondalem!B19 -> KADEK KERTIASIH | C37: =Bondalem!C19 -> PRANGBAKAT
A38: 29 | B38: =Bondalem!B20 -> PUTU SUARTINI | C38: =Bondalem!C20 -> SELOMBO
A39: 30 | B39: =Bondalem!B21 -> KETUT ARIADI | C39: =Bondalem!C21 -> CELAGI BATUR
A40: 31 | B40: =Madenan!B9 -> MADE SUPARNA | C40: =Madenan!C9 -> KAJANAN | D40: =Madenan!D9 -> MADENAN
A41: 32 | B41: =Madenan!B10 -> GEDE TENAYA | C41: =Madenan!C10 -> PENGAJI
A42: 33 | B42: =Madenan!B11 -> NYOMAN WIHENDI | C42: =Madenan!C11 -> KELODAN
A43: 34 | B43: =Madenan!B12 -> GEDE SANTOSO | C43: =Madenan!C12 -> EKAWANGSA
A44: 35 | B44: =Madenan!B13 -> GEDE SANDI ADNYANA | C44: =Madenan!C13 -> GENTUH
A45: 36 | B45: =Madenan!B14 -> KADEK SURADNYA | C45: =Madenan!C14 -> SANGAMBU
A46: 37 | B46: =Madenan!B15 -> PUTU AGUS | C46: =Madenan!C15 -> KEDURAN
A47: 38 | B47: =Tejakula!B9 -> KETUT SUYASA | C47: =Tejakula!C9 -> TENGAH | D47: =Tejakula!D9 -> TEJAKULA
A48: 39 | B48: =Tejakula!B10 -> GEDE MANGUN SIDI | C48: =Tejakula!C10 -> SILA DARMA
A49: 40 | B49: =Tejakula!B11 -> LUH WISALA | C49: =Tejakula!C11 -> KAJA KANGIN
A50: 41 | B50: =Tejakula!B12 -> WAYAN SUDIARTA | C50: =Tejakula!C12 -> KAJANAN
A51: 42 | B51: =Tejakula!B13 -> I NENGAH LENGKAYA | C51: =Tejakula!C13 -> IBUS
A52: 43 | B52: =Tejakula!B14 -> NYOMAN SUARTA | C52: =Tejakula!C14 -> IBUS I
A53: 44 | B53: =Tejakula!B15 -> LUH SULASIH | C53: =Tejakula!C15 -> IBUS II
A54: 45 | B54: =Tejakula!B16 -> KETUT PRASTA | C54: =Tejakula!C16 -> TAOKA
A55: 46 | B55: =Tejakula!B17 -> KETUT PUTRA YASA | C55: =Tejakula!C17 -> TAOKA I
A56: 47 | B56: =Tejakula!B18 -> MADE SUARTA | C56: =Tejakula!C18 -> TAOKA II
A57: 48 | B57: =Tejakula!B19 -> GEDE WIRTAYA | C57: =Tejakula!C19 -> KANGINAN
A58: 49 | B58: =Tejakula!B20 -> NYOMAN ARTINI | C58: =Tejakula!C20 -> DANGIN TUKAD
A59: 50 | B59: =Tejakula!B21 -> BAGUS NYOMAN SUDIANA | C59: =Tejakula!C21 -> KELODAN
... A67: 58 | B67: =Tejakula!B29 -> I MADE SUECA | C67: =Tejakula!C29 -> ABASAN
A68: 59 | B68: =Les!B9 -> KOMANG ENDRA GUNAWAN | C68: =Les!C9 -> KANGINAN | D68: =Les!D9 -> LES
A69: 60 | B69: =Les!B10 -> NENGAH SWIDA | C69: =Les!C10 -> CELUK
A70: 61 | B70: =Les!B11 -> I KETUT KUSMAWAN | C70: =Les!C11 -> PANJINGAN
A71: 62 | B71: =Les!B12 -> I MADE RATA | C71: =Les!C12 -> TEGALLINGGAH
A72: 63 | B72: =Les!B13 -> I GEDE SUARIASA | C72: =Les!C13 -> BUTIANG
A73: 64 | B73: =Les!B14 -> I KETUT MAYA | C73: =Les!C14 -> KAWANAN
A74: 65 | B74: =Les!B15 -> I MADE SUARSANA | C74: =Les!C15 -> SELONDING
A75: 66 | B75: =Les!B16 -> I NYOMAN KARTA | C75: =Les!C16 -> LEMPEDU
A76: 67 | B76: =Les!B17 -> I NENGAH NUARTA | C76: =Les!C17 -> TUBUH
A77: 68 | B77: =Les!B18 -> I NYOMAN WIDIARTA | C77: =Les!C18 -> PENYUMBAHAN
A78: 69 | B78: =Penuktukan!B9 -> MADE PARMIASIH | C78: =Penuktukan!C9 -> KAJA KANGIN | D78: =Penuktukan!D9 -> PENUKTUKAN
A79: 70 | B79: =Penuktukan!B10 -> LUH SUSILANTARI | C79: =Penuktukan!C10 -> TUKAD MAJANGAN I
A80: 71 | B80: =Penuktukan!B11 -> PUTU MAWARTINI | C80: =Penuktukan!C11 -> TUKAD MAJANGAN II
A81: 72 | B81: =Penuktukan!B12 -> NYOMAN METRI | C81: =Penuktukan!C12 -> BELIMBING I
A82: 73 | B82: =Penuktukan!B13 -> NYOMAN RITA ASIH | C82: =Penuktukan!C13 -> BELIMBING II
A83: 74 | B83: =Penuktukan!B14 -> WAYAN SUTEDI | C83: =Penuktukan!C14 -> SEMA
A84: 75 | B84: =Penuktukan!B15 -> KETUT SUASTIKA | C84: =Penuktukan!C15 -> KAWANAN
A85: 76 | B85: =Penuktukan!B16 -> PUTU SARININGSIH | C85: =Penuktukan!C16 -> PEKEN
A86: 77 | B86: =Penuktukan!B17 -> KOMANG SURIANI | C86: =Penuktukan!C17 -> KELOD KAUH
A87: 78 | B87: =Penuktukan!B18 -> GEDE BUDIADNYA | C87: =Penuktukan!C18 -> ABASAN
A88: 79 | B88: =Penuktukan!B19 -> KETUT SAMAN | C88: =Penuktukan!C19 -> PENGACANGAN
A89: 80 | B89: =Penuktukan!B20 -> LUH CITRAWATI | C89: =Penuktukan!C20 -> BATU LUMBANG BAWAH
A90: 81 | B90: =Sambirenteng!B9 -> MADE AGUS MAHARTIKA | C90: =Sambirenteng!C9 -> SAMBIRENTENG | D90: =Sambirenteng!D9 -> SAMBIRENTENG
A91: 82 | B91: =Sambirenteng!B10 -> KETUT MURTAWAN | C91: =Sambirenteng!C10 -> DUKUH
A92: 83 | B92: =Sambirenteng!B11 -> LUH SUKERNI | C92: =Sambirenteng!C11 -> SANGGAH DESA
A93: 84 | B93: =Sambirenteng!B12 -> KETUT AYADNYA | C93: =Sambirenteng!C12 -> BENBEN
A94: 85 | B94: =Sambirenteng!B13 -> HASANUDDIN | C94: =Sambirenteng!C13 -> GERETEK
A95: 86 | B95: =Sambirenteng!B14 -> MADE SUPAMA | C95: =Sambirenteng!C14 -> TUBUH
A96: 87 | B96: =Sambirenteng!B15 -> NENGAH ASTINI | C96: =Sambirenteng!C15 -> SILAGADING
A97: 88 | B97: =Tembok!B9 -> NYOMAN SRINADI | C97: =Tembok!C9 -> SEMBUNG I | D97: =Tembok!D9 -> TEMBOK
A98: 89 | B98: =Tembok!B10 -> NENGAH BUDIARKA | C98: =Tembok!C10 -> SEMBUNG II
A99: 90 | B99: =Tembok!B11 -> MADE MERTASIH | C99: =Tembok!C11 -> NGIS KANGIN
A100: 91 | B100: =Tembok!B12 -> GEDE PASEK | C100: =Tembok!C12 -> NGIS TENGAH
A101: 92 | B101: =Tembok!B13 -> NENGAH SARTINI | C101: =Tembok!C13 -> NGIS KAWANAN
A102: 93 | B102: =Tembok!B14 -> KADEK ASTIKA | C102: =Tembok!C14 -> YEHBAU
A103: 94 | B103: =Tembok!B15 -> NYOMAN SIMPEN | C103: =Tembok!C15 -> TEMBOK KELODAN
A104: 95 | B104: =Tembok!B16 -> WAYAN PASEK MANIS | C104: =Tembok!C16 -> TEMBOK KANGIN
A105: 96 | B105: =Tembok!B17 -> NENGAH MURTI | C105: =Tembok!C17 -> TEMBOK KAWANAN
A106: 97 | B106: =Tembok!B18 -> KOMANG NOVI | C106: =Tembok!C18 -> DAPDAP TEBEL KANGIN
A107: 98 | B107: =Tembok!B19 -> WAYAN MARGIANA | C107: =Tembok!C19 -> DAPDAP TEBEL KAWANAN
A108: 99 | B108: =Tembok!B20 -> GEDE SUTAPA | C108: =Tembok!C20 -> BULAKAN KAJA
A109: 100 | B109: =Tembok!B21 -> LUH SUSANTINI | C109: =Tembok!C21 -> BULAKAN KELOD

Sheet Sembiran
A2: DAFTAR NAMA SUB PPKD DI DESA SEMBIRAN KECAMATAN TEJAKULA
A3: TAHUN 2015
A7: NO | B7: NAMA SUB PPKBD | C7: WILAYAH
C8: DUSUN / BANJAR | D8: DESA
A9: 1 | B9: PUTU ARSANA | C9: PANGGUNG | D9: SEMBIRAN
A10: 2 | B10: KOMANG SARI | C10: BUKIT SENI
A11: 3 | B11: NENGAH SUKIANA | C11: KAWANAN
A12: 4 | B12: NYOMAN SUARTANA | C12: ANYAR
A13: 5 | B13: NENGAH ARDANA | C13: DUKUH
A14: 6 | B14: I WAYAN RAKSA | C14: KANGINAN

Sheet Pacung
A2: DAFTAR NAMA SUB PPKD DI DESA PACUNG KECAMATAN TEJAKULA
A3: TAHUN 2015
A7: NO | B7: NAMA SUB PPKBD | C7: WILAYAH
C8: DUSUN / BANJAR | D8: DESA
A9: 1 | B9: LUH SRIBUDIANI | C9: KUBUANYAR | D9: PACUNG
A10: 2 | B10: KETUT SARJANA | C10: SAMBIRANA
A11: 3 | B11: NYOMAN PUTRA | C11: ALASSARI
A12: 4 | B12: WAYAN PUTU | C12: BALE BENA
A13: 5 | B13: NYOMAN SUTAYA | C13: ANTASARI

Sheet Julah
A2: DAFTAR NAMA SUB PPKD DI DESA JULAH KECAMATAN TEJAKULA
A3: TAHUN 2015
A7: NO | B7: NAMA SUB PPKBD | C7: WILAYAH
C8: DUSUN / BANJAR | D8: DESA
A9: 1 | B9: I WAYAN MUDIARTA | C9: KAWANAN | D9: JULAH
A10: 2 | B10: NI KADEK HELI MARHENI | C10: SILAYUKTI
A11: 3 | B11: NI MADE RATNA | C11: WARINGIN SARI
A12: 4 | B12: I KETUT YUDIANA | C12: KANGINAN
A13: 5 | B13: I KETUT DIARSI | C13: BUNGBUNG LINGGAH
A14: 6 | B14: WAHID HASYIM | C14: BATU GAMBIR

Sheet Bondalem
A2: DAFTAR NAMA SUB PPKD DI DESA BONDALEM KECAMATAN TEJAKULA
A3: TAHUN 2015
A7: NO | B7: NAMA SUB PPKBD | C7: WILAYAH
C8: DUSUN / BANJAR | D8: DESA
A9: 1 | B9: NYOMAN WIDIADA | C9: SUKSUK | D9: BONDALEM
A10: 2 | B10: KETUT SRI WIDIANTINI | C10: TEGAL SARI
A11: 3 | B11: KETUT SUDIARSA | C11: KAJA KANGIN
A12: 4 | B12: NYOMAN SUKRINI | C12: CELUK
A13: 5 | B13: GEDE ARIMBAWA | C13: KAJA KAUH
A14: 6 | B14: GEDE SUKA | C14: CELAGI BANTES
A15: 7 | B15: KADEK NOVA MAHENDRA | C15: KELOD KANGIN
A16: 8 | B16: GEDE RUPAWAN | C16: LEMO SARI
A17: 9 | B17: KETUT AGUS SATRIAWAN | C17: KELOD KAUH
A18: 10 | B18: KETUT SUSILA | C18: JERO KUTA
A19: 11 | B19: KADEK KERTIASIH | C19: PRANGBAKAT
A20: 12 | B20: PUTU SUARTINI | C20: SELOMBO
A21: 13 | B21: KETUT ARIADI | C21: CELAGI BATUR

Sheet Madenan
A2: DAFTAR NAMA SUB PPKD DI DESA MADENAN KECAMATAN TEJAKULA
A3: TAHUN 2015
A7: NO | B7: NAMA SUB PPKBD | C7: WILAYAH
C8: DUSUN / BANJAR | D8: DESA
A9: 1 | B9: MADE SUPARNA | C9: KAJANAN | D9: MADENAN
A10: 2 | B10: GEDE TENAYA | C10: PENGAJI
A11: 3 | B11: NYOMAN WIHENDI | C11: KELODAN
A12: 4 | B12: GEDE SANTOSO | C12: EKAWANGSA
A13: 5 | B13: GEDE SANDI ADNYANA | C13: GENTUH
A14: 6 | B14: KADEK SURADNYA | C14: SANGAMBU
A15: 7 | B15: PUTU AGUS | C15: KEDURAN

Sheet Tejakula
A2: DAFTAR NAMA SUB PPKD DI DESA TEJAKULA KECAMATAN TEJAKULA
A3: TAHUN 2015
A7: NO | B7: NAMA SUB PPKBD | C7: WILAYAH
C8: DUSUN / BANJAR | D8: DESA
A9: 1 | B9: KETUT SUYASA | C9: TENGAH | D9: TEJAKULA
A10: 2 | B10: GEDE MANGUN SIDI | C10: SILA DARMA
A11: 3 | B11: LUH WISALA | C11: KAJA KANGIN
A12: 4 | B12: WAYAN SUDIARTA | C12: KAJANAN
A13: 5 | B13: I NENGAH LENGKAYA | C13: IBUS
A14: 6 | B14: NYOMAN SUARTA | C14: IBUS I
A15: 7 | B15: LUH SULASIH | C15: IBUS II
A16: 8 | B16: KETUT PRASTA | C16: TAOKA
A17: 9 | B17: KETUT PUTRA YASA | C17: TAOKA I
A18: 10 | B18: MADE SUARTA | C18: TAOKA II
A19: 11 | B19: GEDE WIRTAYA | C19: KANGINAN
A20: 12 | B20: NYOMAN ARTINI | C20: DANGIN TUKAD
A21: 13 | B21: BAGUS NYOMAN SUDIANA | C21: KELODAN
... A29: 21 | B29: I MADE SUECA | C29: ABASAN

Sheet Les
A2: DAFTAR NAMA SUB PPKD DI DESA LES KECAMATAN TEJAKULA
A3: TAHUN 2015
A7: NO | B7: NAMA SUB PPKBD | C7: WILAYAH
C8: DUSUN / BANJAR | D8: DESA
A9: 1 | B9: KOMANG ENDRA GUNAWAN | C9: KANGINAN | D9: LES
A10: 2 | B10: NENGAH SWIDA | C10: CELUK
A11: 3 | B11: I KETUT KUSMAWAN | C11: PANJINGAN
A12: 4 | B12: I MADE RATA | C12: TEGALLINGGAH
A13: 5 | B13: I GEDE SUARIASA | C13: BUTIANG
A14: 6 | B14: I KETUT MAYA | C14: KAWANAN
A15: 7 | B15: I MADE SUARSANA | C15: SELONDING
A16: 8 | B16: I NYOMAN KARTA | C16: LEMPEDU
A17: 9 | B17: I NENGAH NUARTA | C17: TUBUH
A18: 10 | B18: I NYOMAN WIDIARTA | C18: PENYUMBAHAN

Sheet Penuktukan
A2: DAFTAR NAMA SUB PPKD DI DESA PENUKTUKAN KECAMATAN TEJAKULA
A3: TAHUN 2015
A7: NO | B7: NAMA SUB PPKBD | C7: WILAYAH
C8: DUSUN / BANJAR | D8: DESA
A9: 1 | B9: MADE PARMIASIH | C9: KAJA KANGIN | D9: PENUKTUKAN
A10: 2 | B10: LUH SUSILANTARI | C10: TUKAD MAJANGAN I
A11: 3 | B11: PUTU MAWARTINI | C11: TUKAD MAJANGAN II
A12: 4 | B12: NYOMAN METRI | C12: BELIMBING I
A13: 5 | B13: NYOMAN RITA ASIH | C13: BELIMBING II
A14: 6 | B14: WAYAN SUTEDI | C14: SEMA
A15: 7 | B15: KETUT SUASTIKA | C15: KAWANAN
A16: 8 | B16: PUTU SARININGSIH | C16: PEKEN
A17: 9 | B17: KOMANG SURIANI | C17: KELOD KAUH
A18: 10 | B18: GEDE BUDIADNYA | C18: ABASAN
A19: 11 | B19: KETUT SAMAN | C19: PENGACANGAN
A20: 12 | B20: LUH CITRAWATI | C20: BATU LUMBANG BAWAH

Sheet Sambirenteng
A2: DAFTAR NAMA SUB PPKD DI DESA SAMBIRENTENG KECAMATAN TEJAKULA
A3: TAHUN 2015
A7: NO | B7: NAMA SUB PPKBD | C7: WILAYAH
C8: DUSUN / BANJAR | D8: DESA
A9: 1 | B9: MADE AGUS MAHARTIKA | C9: SAMBIRENTENG | D9: SAMBIRENTENG
A10: 2 | B10: KETUT MURTAWAN | C10: DUKUH
A11: 3 | B11: LUH SUKERNI | C11: SANGGAH DESA
A12: 4 | B12: KETUT AYADNYA | C12: BENBEN
A13: 5 | B13: HASANUDDIN | C13: GERETEK
A14: 6 | B14: MADE SUPAMA | C14: TUBUH
A15: 7 | B15: NENGAH ASTINI | C15: SILAGADING

Sheet Tembok
A2: DAFTAR NAMA SUB PPKD DI DESA TEMBOK KECAMATAN TEJAKULA
A3: TAHUN 2015
A7: NO | B7: NAMA SUB PPKBD | C7: WILAYAH
C8: DUSUN / BANJAR | D8: DESA
A9: 1 | B9: NYOMAN SRINADI | C9: SEMBUNG I | D9: TEMBOK
A10: 2 | B10: NENGAH BUDIARKA | C10: SEMBUNG II
A11: 3 | B11: MADE MERTASIH | C11: NGIS KANGIN
A12: 4 | B12: GEDE PASEK | C12: NGIS TENGAH
A13: 5 | B13: NENGAH SARTINI | C13: NGIS KAWANAN
A14: 6 | B14: KADEK ASTIKA | C14: YEHBAU
A15: 7 | B15: NYOMAN SIMPEN | C15: TEMBOK KELODAN
A16: 8 | B16: WAYAN PASEK MANIS | C16: TEMBOK KANGIN
A17: 9 | B17: NENGAH MURTI | C17: TEMBOK KAWANAN
A18: 10 | B18: KOMANG NOVI | C18: DAPDAP TEBEL KANGIN
A19: 11 | B19: WAYAN MARGIANA | C19: DAPDAP TEBEL KAWANAN
A20: 12 | B20: GEDE SUTAPA | C20: BULAKAN KAJA
A21: 13 | B21: LUH SUSANTINI | C21: BULAKAN KELOD
